BEGIN:VCALENDAR
PRODID:-//PUBBLE//agenda//NL
VERSION:2.0
METHOD:PUBLISH
BEGIN:VEVENT
DTSTART:20250816T180000Z
DTEND:20250816T190000Z
DTSTAMP:20260424T163514Z
UID:5f8f37d4-eb7e-463d-bb41-fb5b11cdb439
CREATED:20260424T163514Z
NAME:Matthijs & Sven presenteren Feelin’ Alright contactzutphen.nl
X-WR-CALNAME:Matthijs & Sven presenteren Feelin’ Alright
X-ALT-DESC;FMTTYPE=text/html:<a href='/agenda/2025/8/16/matthijs-sven-presenteren-feelin-alright-522609'>/agenda/2025/8/16/matthijs-sven-presenteren-feelin-alright-522609</a> || <p>Matthijs van Nieuwkerk&nbsp;en&nbsp;de Sven Hammond Big Band&nbsp;reizen deze zomer samen langs de grote openlucht–podia van ons land.&nbsp;</p><p>DAMM Management &amp; Events presenteert Feelin‘&nbsp;Alright, een onvergetelijke muzikale zomeravond onder de sterrenhemel:&nbsp;Matthijs en Sven Figee&nbsp;zijn weer verenigd; de beste Big Band van Nederland,&nbsp;een keur aan topmuzikanten, Matthijs praat&nbsp;én zingt en altijd present: dichter,&nbsp;zanger&nbsp;en&nbsp;gitarist Nico Dijkhoorn.&nbsp;</p><p>Muziek en verhalen. Ongepolijst,&nbsp;verrassend, vurig&nbsp;enmeeslepend.&nbsp;</p><p>Sven Figee:&nbsp;“Ik kan niet wachten om weer met Matthijs het podium op te gaan. We zorgen als vanouds voor vuurwerk en swingende en positieve vibes. The band is ready en feelin‘&nbsp;alright.“</p><p>Matthijs van Nieuwkerk: “Sven is the best. Ik heb hem en de band gemist. Laat de zomer maar komen.“</p>
DESCRIPTION:<a href='/agenda/2025/8/16/matthijs-sven-presenteren-feelin-alright-522609'>/agenda/2025/8/16/matthijs-sven-presenteren-feelin-alright-522609</a> || <p>Matthijs van Nieuwkerk&nbsp;en&nbsp;de Sven Hammond Big Band&nbsp;reizen deze zomer samen langs de grote openlucht–podia van ons land.&nbsp;</p><p>DAMM Management &amp; Events presenteert Feelin‘&nbsp;Alright, een onvergetelijke muzikale zomeravond onder de sterrenhemel:&nbsp;Matthijs en Sven Figee&nbsp;zijn weer verenigd; de beste Big Band van Nederland,&nbsp;een keur aan topmuzikanten, Matthijs praat&nbsp;én zingt en altijd present: dichter,&nbsp;zanger&nbsp;en&nbsp;gitarist Nico Dijkhoorn.&nbsp;</p><p>Muziek en verhalen. Ongepolijst,&nbsp;verrassend, vurig&nbsp;enmeeslepend.&nbsp;</p><p>Sven Figee:&nbsp;“Ik kan niet wachten om weer met Matthijs het podium op te gaan. We zorgen als vanouds voor vuurwerk en swingende en positieve vibes. The band is ready en feelin‘&nbsp;alright.“</p><p>Matthijs van Nieuwkerk: “Sven is the best. Ik heb hem en de band gemist. Laat de zomer maar komen.“</p>
LAST-MODIFIED:20260424T163514Z
LOCATION: Openluchttheater Lochem | Onderlangs 8 Lochem
SEQUENCE:0
STATUS:CONFIRMED
SUMMARY:Matthijs & Sven presenteren Feelin’ Alright
TRANSP:OPAQUE
END:VEVENT
END:VCALENDAR
